BEGIN:VCALENDAR
VERSION:2.0
PRODID:-//wp-events-plugin.com//7.2.3.1//EN
TZID:Europe/Berlin
X-WR-TIMEZONE:Europe/Berlin
BEGIN:VEVENT
UID:1071@kieler-kanu-klub.org
DTSTART;TZID=Europe/Berlin:20251231T203000
DTEND;TZID=Europe/Berlin:20260101T020000
DTSTAMP:20250101T161832Z
URL:https://kieler-kanu-klub.org/events/silvesterfeier
SUMMARY:Silvesterfeier
DESCRIPTION:im Klubraum
CATEGORIES:Vereinsevents
LOCATION:Kieler Kanu-Klub\, Düsternbrookerweg 46\, Kiel\, Schleswig-Holste
 in\, 24105\, Schleswig-Holstein\, Deutschland
GEO:54.332292;10.150384
X-APPLE-STRUCTURED-LOCATION;VALUE=URI;X-ADDRESS=Düsternbrookerweg 46\, Kie
 l\, Schleswig-Holstein\, 24105\, Schleswig-Holstein\, Deutschland;X-APPLE-
 RADIUS=100;X-TITLE=Kieler Kanu-Klub:geo:54.332292,10.150384
END:VEVENT
BEGIN:VTIMEZONE
TZID:Europe/Berlin
X-LIC-LOCATION:Europe/Berlin
BEGIN:STANDARD
DTSTART:20251026T020000
TZOFFSETFROM:+0200
TZOFFSETTO:+0100
TZNAME:CET
END:STANDARD
END:VTIMEZONE
END:VCALENDAR